BEGIN:VCALENDAR
VERSION:2.0
PRODID:https://www.zuken.com/us
BEGIN:VEVENT
UID:69eab02bb1d8f
DTSTART;TZID=Europe/London:20260127T070000
SEQUENCE:0
TRANSP:OPAQUE
DTEND;TZID=Europe/London:20260129T180000
URL:https://www.zuken.com/us/event/whma/
LOCATION:JW Marriott Las Vegas Resort & Spa\, North Rampart Boulevard\, Las
  Vegas\, NV\, USA
SUMMARY:WHMA 2026
CLASS:PUBLIC
DTSTAMP:20260424T005003Z
END:VEVENT
END:VCALENDAR