BEGIN:VCALENDAR
VERSION:2.0
PRODID:https://www.zuken.com/us
BEGIN:VEVENT
UID:69eae82d1c13f
DTSTART;TZID=Europe/London:20260930T070000
SEQUENCE:0
TRANSP:OPAQUE
DTEND;TZID=Europe/London:20260930T170000
URL:https://www.zuken.com/us/event/pcb-west/
LOCATION:Santa Clara Convention Center\, Great America Parkway\, Santa Clar
 a\, CA\, USA
SUMMARY:PCB West
CLASS:PUBLIC
DTSTAMP:20260424T044901Z
END:VEVENT
END:VCALENDAR