BEGIN:VCALENDAR
VERSION:2.0
PRODID:https://www.zuken.com/us
BEGIN:VEVENT
UID:69eaa63e29290
DTSTART;VALUE=DATE:20230508
SEQUENCE:0
TRANSP:OPAQUE
DTEND;VALUE=DATE:20230513
URL:https://www.zuken.com/us/event/pcb-east/
LOCATION:242 Adams Pl\nBoxborough\, MA 01719
SUMMARY:PCB East 2023
CLASS:PUBLIC
X-MICROSOFT-CDO-ALLDAYEVENT:TRUE
DTSTAMP:20260424T000742Z
END:VEVENT
END:VCALENDAR