BEGIN:VCALENDAR
VERSION:2.0
PRODID:https://www.zuken.com/us
BEGIN:VEVENT
UID:69eaa36fb28be
DTSTART;TZID=Europe/London:20230223T080000
SEQUENCE:0
TRANSP:OPAQUE
DTEND;TZID=Europe/London:20230223T170000
URL:https://www.zuken.com/us/event/ozencon/
LOCATION:1401 N. Shoreline Blvd.\nMountain View\, CA 94043
SUMMARY:OzenCon
CLASS:PUBLIC
DTSTAMP:20260423T235543Z
END:VEVENT
END:VCALENDAR