BEGIN:VCALENDAR
VERSION:2.0
PRODID:https://www.zuken.com/it
BEGIN:VEVENT
UID:69e711339eb04
DTSTART;TZID=Europe/London:20260721T080000
SEQUENCE:0
TRANSP:OPAQUE
DTEND;TZID=Europe/London:20260722T160000
URL:https://www.zuken.com/it/training/e3-library-dbe-20260721/
LOCATION:Zuken S.r.l.\, Strada 2\, Assago\, Metropolitan City of Milan\, It
 aly
SUMMARY:E3.library 21.07.2026
CLASS:PUBLIC
DTSTAMP:20260421T065459Z
END:VEVENT
END:VCALENDAR