BEGIN:VCALENDAR
VERSION:2.0
PRODID:https://www.zuken.com/it
BEGIN:VEVENT
UID:69ed47a70e469
DTSTART;TZID=Europe/London:20251112T090000
SEQUENCE:0
TRANSP:OPAQUE
DTEND;TZID=Europe/London:20251112T133000
URL:https://www.zuken.com/it/event/engineering-meets-automation/
LOCATION:Via Albert Einstein\, 4\, 20092 Cinisello Balsamo\, MI\, Italia
SUMMARY:Engineering Meets Automation
CLASS:PUBLIC
DTSTAMP:20260426T000055Z
END:VEVENT
END:VCALENDAR