BEGIN:VCALENDAR
VERSION:2.0
PRODID:https://www.zuken.com/it
BEGIN:VEVENT
UID:69eb18ad66294
DTSTART;TZID=Europe/London:20241105T085000
SEQUENCE:0
TRANSP:OPAQUE
DTEND;TZID=Europe/London:20241106T161500
URL:https://www.zuken.com/it/event/asec-by-incose-2024/
LOCATION:EICC- Edinburgh International Conference Centre\nThe Exchange\, 15
 0 Morrison Street\nEdinburgh EH3 8EE\nUK
SUMMARY:ASEC by INCOSE 2024
CLASS:PUBLIC
DTSTAMP:20260424T081557Z
END:VEVENT
END:VCALENDAR