BEGIN:VCALENDAR
VERSION:2.0
PRODID:https://www.zuken.com/fr
BEGIN:VEVENT
UID:69ed5739402f5
DTSTART;VALUE=DATE:20190507
SEQUENCE:0
TRANSP:OPAQUE
DTEND;VALUE=DATE:20190508
URL:https://www.zuken.com/fr/event/zed-karslruhe-1905/
LOCATION:Regus Business Centre in 76131 Karlsruhe – Ludwig-Erhard-Allee 1
 0
SUMMARY:Zuken Expericence Day: CR-8000 &#8211\; Karlsruhe
CLASS:PUBLIC
DESCRIPTION:Zuken Expericence Day - Karlsruhe
X-MICROSOFT-CDO-ALLDAYEVENT:TRUE
DTSTAMP:20260426T010721Z
END:VEVENT
END:VCALENDAR