BEGIN:VCALENDAR
VERSION:2.0
PRODID:https://www.zuken.com/fr
BEGIN:VEVENT
UID:69ea8ec2bbd2d
DTSTART;TZID=Europe/London:20250326T085000
SEQUENCE:0
TRANSP:OPAQUE
DTEND;TZID=Europe/London:20250327T161500
URL:https://www.zuken.com/fr/event/hydrogen-tech-expo/
LOCATION:The Wing\nSilverstone\nUK
SUMMARY:Hydrogen Tech Expo
CLASS:PUBLIC
DTSTAMP:20260423T222730Z
END:VEVENT
END:VCALENDAR