BEGIN:VCALENDAR
VERSION:2.0
PRODID:https://www.zuken.com/en
BEGIN:VEVENT
UID:69e6c5d70e95c
DTSTART;TZID=Europe/London:20260915T080000
SEQUENCE:0
TRANSP:OPAQUE
DTEND;TZID=Europe/London:20260917T160000
URL:https://www.zuken.com/en/training/e3-schematic-uk-20260915/
LOCATION:Zuken\, 1500 Aztec W\, Almondsbury\, Bristol BS32 4RF\, UK
SUMMARY:E3.schematic &amp\; E3.cable 15-09-26
CLASS:PUBLIC
DTSTAMP:20260421T013327Z
END:VEVENT
END:VCALENDAR