BEGIN:VCALENDAR
VERSION:2.0
PRODID:https://www.zuken.com/en
BEGIN:VEVENT
UID:69e6e0cf46aaa
DTSTART;TZID=Europe/London:20261020T080000
SEQUENCE:0
TRANSP:OPAQUE
DTEND;TZID=Europe/London:20261021T160000
URL:https://www.zuken.com/en/training/e3-library-dbe-uk-20261020/
LOCATION:Zuken\, 1500 Aztec W\, Almondsbury\, Bristol BS32 4RF\, UK
SUMMARY:E3.Library (database) 20-10-26
CLASS:PUBLIC
DTSTAMP:20260421T032831Z
END:VEVENT
END:VCALENDAR