BEGIN:VCALENDAR
VERSION:2.0
PRODID:https://www.zuken.com/en
BEGIN:VEVENT
UID:69e9c6d6157b3
DTSTART;TZID=Europe/London:20220928T080000
SEQUENCE:0
TRANSP:OPAQUE
DTEND;TZID=Europe/London:20220929T160000
URL:https://www.zuken.com/en/event/mbse-spectacular/
LOCATION:The Birmingham Midlands Institute\n9 Margaret St\, Birmingham\, B3
  3BS\, UK
SUMMARY:MBSE Spectacular
CLASS:PUBLIC
DTSTAMP:20260423T081430Z
END:VEVENT
END:VCALENDAR