BEGIN:VCALENDAR
VERSION:2.0
PRODID:https://www.zuken.com/en
BEGIN:VEVENT
UID:69ed6506ed73f
DTSTART;TZID=Europe/London:20220908T083000
SEQUENCE:0
TRANSP:OPAQUE
DTEND;TZID=Europe/London:20220908T160000
URL:https://www.zuken.com/en/event/e3-series-2022-seminar-sg/
LOCATION:Carlton Hotel Singapore\, 76 Bras Basah Rd\, Singapore 189558
SUMMARY:E3.series 2022 Seminar
CLASS:PUBLIC
DTSTAMP:20260426T020614Z
END:VEVENT
END:VCALENDAR