BEGIN:VCALENDAR
VERSION:2.0
PRODID:https://www.zuken.com/de
BEGIN:VEVENT
UID:69e6deef5594e
DTSTART;TZID=Europe/London:20260706T120000
SEQUENCE:0
TRANSP:OPAQUE
DTEND;TZID=Europe/London:20260709T110000
URL:https://www.zuken.com/de/training/e3-schematic-de-20260706/
LOCATION:Zuken E3 GmbH\, Theodor-von-Hildebrandt-Platz-1\, 89231 Neu-Ulm
SUMMARY:E3.schematic 06.07.2026 &#8211\; PRÄSENZ
CLASS:PUBLIC
DTSTAMP:20260421T032031Z
END:VEVENT
END:VCALENDAR