BEGIN:VCALENDAR
VERSION:2.0
PRODID:https://www.zuken.com/de
BEGIN:VEVENT
UID:69e72a0f459ab
DTSTART;TZID=Europe/London:20260706T073000
SEQUENCE:0
TRANSP:OPAQUE
DTEND;TZID=Europe/London:20260708T160000
URL:https://www.zuken.com/de/training/e3-schematic-de-20260706-online/
LOCATION:Online über unsere Trainings-Cloud.\n\nFür mehr Informationen ne
 hmen Sie bitte Kontakt zu uns auf. 
SUMMARY:E3.schematic 06.07.2026 &#8211\; ONLINE
CLASS:PUBLIC
DTSTAMP:20260421T084103Z
END:VEVENT
END:VCALENDAR