BEGIN:VCALENDAR
VERSION:2.0
PRODID:https://www.zuken.com/de
BEGIN:VEVENT
UID:69e6f93bee42f
DTSTART;TZID=Europe/London:20260721T073000
SEQUENCE:0
TRANSP:OPAQUE
DTEND;TZID=Europe/London:20260721T160000
URL:https://www.zuken.com/de/training/e3-reportgenerator-de-20260721-online
 /
LOCATION:Online über unsere Trainings-Cloud.\n\nFür mehr Informationen ne
 hmen Sie bitte Kontakt zu uns auf. 
SUMMARY:E3.ReportGenerator 21.07.2026 &#8211\; ONLINE
CLASS:PUBLIC
DTSTAMP:20260421T051243Z
END:VEVENT
END:VCALENDAR