BEGIN:VCALENDAR
VERSION:2.0
PRODID:https://www.zuken.com/de
BEGIN:VEVENT
UID:69e7125180ec3
DTSTART;TZID=Europe/London:20260715T120000
SEQUENCE:0
TRANSP:OPAQUE
DTEND;TZID=Europe/London:20260716T110000
URL:https://www.zuken.com/de/training/e3-paneldbe-de-20260715/
LOCATION:Zuken E3 GmbH\, Theodor-von-Hildebrandt-Platz-1\, 89231 Neu-Ulm
SUMMARY:E3.panel dbe 15.07.2026 &#8211\; PRÄSENZ
CLASS:PUBLIC
DTSTAMP:20260421T065945Z
END:VEVENT
END:VCALENDAR