BEGIN:VCALENDAR
VERSION:2.0
PRODID:https://www.zuken.com/de
BEGIN:VEVENT
UID:69e6f6624c4cc
DTSTART;TZID=Europe/London:20260716T073000
SEQUENCE:0
TRANSP:OPAQUE
DTEND;TZID=Europe/London:20260716T160000
URL:https://www.zuken.com/de/training/e3-panel-dbe-de-20260716-online/
LOCATION:Online über unsere Trainings-Cloud.\n\nFür mehr Informationen ne
 hmen Sie bitte Kontakt zu uns auf. 
SUMMARY:E3.panel dbe 16.07.2026 &#8211\; ONLINE
CLASS:PUBLIC
DTSTAMP:20260421T050034Z
END:VEVENT
END:VCALENDAR