BEGIN:VCALENDAR
VERSION:2.0
PRODID:https://www.zuken.com/de
BEGIN:VEVENT
UID:69e6f83697b53
DTSTART;TZID=Europe/London:20260713T120000
SEQUENCE:0
TRANSP:OPAQUE
DTEND;TZID=Europe/London:20260715T110000
URL:https://www.zuken.com/de/training/e3-dbe-de-20260713/
LOCATION:Zuken E3 GmbH\, Theodor-von-Hildebrandt-Platz-1\, 89231 Neu-Ulm
SUMMARY:E3.dbe 13.07.2026 &#8211\; PRÄSENZ
CLASS:PUBLIC
DTSTAMP:20260421T050822Z
END:VEVENT
END:VCALENDAR