BEGIN:VCALENDAR
VERSION:2.0
PRODID:https://www.zuken.com/de
BEGIN:VEVENT
UID:69e6dfd0eb819
DTSTART;TZID=Europe/London:20260713T073000
SEQUENCE:0
TRANSP:OPAQUE
DTEND;TZID=Europe/London:20260715T160000
URL:https://www.zuken.com/de/training/e3-dbe-de-20260713-online/
LOCATION:Online über unsere Trainings-Cloud.\n\nFür mehr Informationen ne
 hmen Sie bitte Kontakt zu uns auf. 
SUMMARY:E3.dbe 13.07.2026 &#8211\; ONLINE
CLASS:PUBLIC
DTSTAMP:20260421T032416Z
END:VEVENT
END:VCALENDAR