BEGIN:VCALENDAR
VERSION:2.0
PRODID:https://www.zuken.com/de
BEGIN:VEVENT
UID:69e890b461fde
DTSTART;TZID=Europe/London:20261026T090000
SEQUENCE:0
TRANSP:OPAQUE
DTEND;TZID=Europe/London:20261029T170000
URL:https://www.zuken.com/de/training/e3-compact-ch-20261026/
LOCATION:Zuken E3 GmbH\, Ahornweg 4\, 5504 Othmarsingen\, Switzerland
SUMMARY:E3.Compact 26.10.2026 &#8211\; CH
CLASS:PUBLIC
DTSTAMP:20260422T101116Z
END:VEVENT
END:VCALENDAR