BEGIN:VCALENDAR
VERSION:2.0
PRODID:https://www.zuken.com/de
BEGIN:VEVENT
UID:69e6f80d7b963
DTSTART;TZID=Europe/London:20260824T080000
SEQUENCE:0
TRANSP:OPAQUE
DTEND;TZID=Europe/London:20260827T160000
URL:https://www.zuken.com/de/training/e3-compact-ch-20260824/
LOCATION:Zuken E3 GmbH\, Ahornweg 4\, 5504 Othmarsingen\, Switzerland
SUMMARY:E3.Compact 24.08.2026 &#8211\; CH
CLASS:PUBLIC
DTSTAMP:20260421T050741Z
END:VEVENT
END:VCALENDAR