BEGIN:VCALENDAR
VERSION:2.0
PRODID:https://www.zuken.com/de
BEGIN:VEVENT
UID:69e6adefdfdfb
DTSTART;TZID=Europe/London:20260615T080000
SEQUENCE:0
TRANSP:OPAQUE
DTEND;TZID=Europe/London:20260618T160000
URL:https://www.zuken.com/de/training/e3-compact-ch-20260615/
LOCATION:Zuken E3 GmbH\, Ahornweg 4\, 5504 Othmarsingen\, Switzerland
SUMMARY:E3.Compact 15.06.2025 &#8211\; CH
CLASS:PUBLIC
DTSTAMP:20260420T235127Z
END:VEVENT
END:VCALENDAR