BEGIN:VCALENDAR
VERSION:2.0
PRODID:https://www.zuken.com/de
BEGIN:VEVENT
UID:69e560f1f0113
DTSTART;TZID=Europe/London:20260427T080000
SEQUENCE:0
TRANSP:OPAQUE
DTEND;TZID=Europe/London:20260430T160000
URL:https://www.zuken.com/de/training/e3-compact-ch-20260427/
LOCATION:Zuken E3 GmbH\, Ahornweg 4\, 5504 Othmarsingen\, Switzerland
SUMMARY:E3.Compact 27.04.2026 &#8211\; CH
CLASS:PUBLIC
DTSTAMP:20260420T001041Z
END:VEVENT
END:VCALENDAR