BEGIN:VCALENDAR
VERSION:2.0
PRODID:https://www.zuken.com/de
BEGIN:VEVENT
UID:69e53b6f3d8bb
DTSTART;TZID=Europe/London:20260709T120000
SEQUENCE:0
TRANSP:OPAQUE
DTEND;TZID=Europe/London:20260710T110000
URL:https://www.zuken.com/de/training/e3-cable-de-20260709/
LOCATION:Zuken E3 GmbH\, Theodor-von-Hildebrandt-Platz-1\, 89231 Neu-Ulm
SUMMARY:E3.cable 09.07.2026 &#8211\; PRÄSENZ
CLASS:PUBLIC
DTSTAMP:20260419T213039Z
END:VEVENT
END:VCALENDAR