BEGIN:VCALENDAR
VERSION:2.0
PRODID:https://www.zuken.com/de
BEGIN:VEVENT
UID:69e53b3904a15
DTSTART;TZID=Europe/London:20260709T073000
SEQUENCE:0
TRANSP:OPAQUE
DTEND;TZID=Europe/London:20260709T160000
URL:https://www.zuken.com/de/training/e3-cable-de-20260709-online/
LOCATION:Online über unsere Trainings-Cloud.\n\nFür mehr Informationen ne
 hmen Sie bitte Kontakt zu uns auf. 
SUMMARY:E3.cable  09.01.2026 &#8211\; ONLINE
CLASS:PUBLIC
DTSTAMP:20260419T212945Z
END:VEVENT
END:VCALENDAR