BEGIN:VCALENDAR
VERSION:2.0
PRODID:https://www.zuken.com/de
BEGIN:VEVENT
UID:69eace5353a00
DTSTART;VALUE=DATE:20230302
SEQUENCE:0
TRANSP:OPAQUE
DTEND;VALUE=DATE:20230303
URL:https://www.zuken.com/de/event/vde-bayern-tec-symposium/
LOCATION:Werksviertel Mitte\, Werk1\, \nAm Kartoffelgarten 14\, \n81671 Mü
 nchen\n\nDas Symposium  ist ein Angebot des VDE Bayern für KMU\, Studente
 n\, Start-Ups\, Wissenschaftliche Mitarbeiter an Hochschulen und Universit
 äten\, Lehrstuhlinhaber\, VDE Mitglieder\, Kunden und Netzwerkpartner. \n
SUMMARY:VDE Bayern Tec Symposium
CLASS:PUBLIC
X-MICROSOFT-CDO-ALLDAYEVENT:TRUE
DTSTAMP:20260424T025843Z
END:VEVENT
END:VCALENDAR