BEGIN:VCALENDAR
VERSION:2.0
PRODID:https://www.zuken.com/de
BEGIN:VEVENT
UID:69eac573576f5
DTSTART;VALUE=DATE:20190709
SEQUENCE:0
TRANSP:OPAQUE
DTEND;VALUE=DATE:20190711
URL:https://www.zuken.com/de/event/technologietag-leiterplatte-baugruppe/
LOCATION:VCC Vogel Convention Center\nMax-Planck-Str. 7/9\nD-97082 Würzbur
 g
SUMMARY:Technologietag Leiterplatte &#038\; Baugruppe
CLASS:PUBLIC
DESCRIPTION:Die Leiterplatte ist das Rückgrat praktisch jeder Elektronik. 
 Aber sie ist längst nicht nur Verbindungsträger\, sondern ein elektronis
 ches Bauteil\, das heute unglaublich viel mehr kann\, als nur Chips zu ver
 binden.\nDie moderne Leiterplattentechnik schafft neue Freiheitsgrade für
  die Entwickler von Baugruppen – sie muss aber auch beherrscht werden.\n
 Hier setzt der 2. Technologietag Leiterplatte & Baugruppe an. Die Fachtagu
 ng vermittelt praktisches Wissen für die Konstruktion von Leiterplatten n
 ach dem Stand der heutigen Technik. Sie gibt Einblicke in neue Technologie
 n und Herangehensweisen. Wege zu Best Practice werden aufgezeigt.
X-MICROSOFT-CDO-ALLDAYEVENT:TRUE
DTSTAMP:20260424T022051Z
END:VEVENT
END:VCALENDAR