BEGIN:VCALENDAR
VERSION:2.0
PRODID:https://www.zuken.com/de
BEGIN:VEVENT
UID:69e5236b1676f
DTSTART;TZID=Europe/London:20220530T080000
SEQUENCE:0
TRANSP:OPAQUE
DTEND;TZID=Europe/London:20220602T170000
URL:https://www.zuken.com/de/event/hannover-messe-2022/
LOCATION:Halle 11\nStand C57\nMessegelände\n30521 Hannover
SUMMARY:Hannover Messe 2022
CLASS:PUBLIC
DTSTAMP:20260419T194811Z
END:VEVENT
END:VCALENDAR